Workbook

Sheet Desi hesabı
B1: Netkadran · ücretsiz kaynak
B2: Desi hesap tablosu
A3: Kolinin ölçüsünden desiyi hesapla, kargo faturasındaki desiyle karşılaştır. Kendi kargo ücretlerini "Kargo tarifem" sayfasına yazarsan fazla ödenen tutar da hesaplanır.
A4: Turuncu hücreler senin dolduracağın yerler; beyaz hücreler kendiliğinden hesaplanır. "örnek" yazan satırlar örnektir, üzerine yazabilir ya da silebilirsin.
A6: Desi böleni | C6: 3000 | D6: Desi = en × boy × yükseklik (cm) ÷ 3000. Bölen ve yuvarlama kargo firmanın tarifesinden teyit edilmeli.
A8: Satır | B8: Sipariş no / ürün | C8: En (cm) | D8: Boy (cm) | E8: Yükseklik (cm) | F8: Ağırlık (kg) | G8: Hesaplanan desi | H8: Faturalanması gereken desi (büyüğü, yukarı yuvarlanmış) | I8: Faturadaki desi | J8: Desi farkı | K8: Faturadaki tutar | L8: Doğru desinin tutarı (tarifenden) | M8: Fazla ödenen | N8: Durum
A9: örnek 1 | B9: örnek sipariş 1 | C9: 40 | D9: 30 | E9: 20 | F9: 2 | G9: =IF(C9="","",ROUND(C9*D9*E9/$C$6,2)) -> 8 | H9: =IF(C9="","",ROUNDUP(MAX(G9,F9),0)) -> 8 | I9: 10 | J9: =IF(C9="","",IF(I9="","",I9-H9)) -> 2 | K9: 208 | L9: =IF(C9="","",IFERROR(INDEX('Kargo tarifem'!$B$6:$B$45,MATCH(H9,'Kargo tarifem'!$A$6:$A$45,0)),"")) -> 184 | M9: =IF(C9="","",IF(OR(K9="",L9=""),"",MAX(0,K9-L9))) -> 24 | N9: =IF(C9="","",IF(I9="","",IF(I9>H9,"Fazla desi","Tamam"))) -> Fazla desi
A10: örnek 2 | B10: örnek sipariş 2 | C10: 30 | D10: 20 | E10: 10 | F10: 1.5 | G10: =IF(C10="","",ROUND(C10*D10*E10/$C$6,2)) -> 2 | H10: =IF(C10="","",ROUNDUP(MAX(G10,F10),0)) -> 2 | I10: 2 | J10: =IF(C10="","",IF(I10="","",I10-H10)) -> 0 | K10: 112 | L10: =IF(C10="","",IFERROR(INDEX('Kargo tarifem'!$B$6:$B$45,MATCH(H10,'Kargo tarifem'!$A$6:$A$45,0)),"")) -> 112 | M10: =IF(C10="","",IF(OR(K10="",L10=""),"",MAX(0,K10-L10))) -> 0 | N10: =IF(C10="","",IF(I10="","",IF(I10>H10,"Fazla desi","Tamam"))) -> Tamam
G11: =IF(C11="","",ROUND(C11*D11*E11/$C$6,2)) | H11: =IF(C11="","",ROUNDUP(MAX(G11,F11),0)) | J11: =IF(C11="","",IF(I11="","",I11-H11)) | L11: =IF(C11="","",IFERROR(INDEX('Kargo tarifem'!$B$6:$B$45,MATCH(H11,'Kargo tarifem'!$A$6:$A$45,0)),"")) | M11: =IF(C11="","",IF(OR(K11="",L11=""),"",MAX(0,K11-L11))) | N11: =IF(C11="","",IF(I11="","",IF(I11>H11,"Fazla desi","Tamam")))
G12: =IF(C12="","",ROUND(C12*D12*E12/$C$6,2)) | H12: =IF(C12="","",ROUNDUP(MAX(G12,F12),0)) | J12: =IF(C12="","",IF(I12="","",I12-H12)) | L12: =IF(C12="","",IFERROR(INDEX('Kargo tarifem'!$B$6:$B$45,MATCH(H12,'Kargo tarifem'!$A$6:$A$45,0)),"")) | M12: =IF(C12="","",IF(OR(K12="",L12=""),"",MAX(0,K12-L12))) | N12: =IF(C12="","",IF(I12="","",IF(I12>H12,"Fazla desi","Tamam")))
G13: =IF(C13="","",ROUND(C13*D13*E13/$C$6,2)) | H13: =IF(C13="","",ROUNDUP(MAX(G13,F13),0)) | J13: =IF(C13="","",IF(I13="","",I13-H13)) | L13: =IF(C13="","",IFERROR(INDEX('Kargo tarifem'!$B$6:$B$45,MATCH(H13,'Kargo tarifem'!$A$6:$A$45,0)),"")) | M13: =IF(C13="","",IF(OR(K13="",L13=""),"",MAX(0,K13-L13))) | N13: =IF(C13="","",IF(I13="","",IF(I13>H13,"Fazla desi","Tamam")))
G14: =IF(C14="","",ROUND(C14*D14*E14/$C$6,2)) | H14: =IF(C14="","",ROUNDUP(MAX(G14,F14),0)) | J14: =IF(C14="","",IF(I14="","",I14-H14)) | L14: =IF(C14="","",IFERROR(INDEX('Kargo tarifem'!$B$6:$B$45,MATCH(H14,'Kargo tarifem'!$A$6:$A$45,0)),"")) | M14: =IF(C14="","",IF(OR(K14="",L14=""),"",MAX(0,K14-L14))) | N14: =IF(C14="","",IF(I14="","",IF(I14>H14,"Fazla desi","Tamam")))
G15: =IF(C15="","",ROUND(C15*D15*E15/$C$6,2)) | H15: =IF(C15="","",ROUNDUP(MAX(G15,F15),0)) | J15: =IF(C15="","",IF(I15="","",I15-H15)) | L15: =IF(C15="","",IFERROR(INDEX('Kargo tarifem'!$B$6:$B$45,MATCH(H15,'Kargo tarifem'!$A$6:$A$45,0)),"")) | M15: =IF(C15="","",IF(OR(K15="",L15=""),"",MAX(0,K15-L15))) | N15: =IF(C15="","",IF(I15="","",IF(I15>H15,"Fazla desi","Tamam")))
G16: =IF(C16="","",ROUND(C16*D16*E16/$C$6,2)) | H16: =IF(C16="","",ROUNDUP(MAX(G16,F16),0)) | J16: =IF(C16="","",IF(I16="","",I16-H16)) | L16: =IF(C16="","",IFERROR(INDEX('Kargo tarifem'!$B$6:$B$45,MATCH(H16,'Kargo tarifem'!$A$6:$A$45,0)),"")) | M16: =IF(C16="","",IF(OR(K16="",L16=""),"",MAX(0,K16-L16))) | N16: =IF(C16="","",IF(I16="","",IF(I16>H16,"Fazla desi","Tamam")))
G17: =IF(C17="","",ROUND(C17*D17*E17/$C$6,2)) | H17: =IF(C17="","",ROUNDUP(MAX(G17,F17),0)) | J17: =IF(C17="","",IF(I17="","",I17-H17)) | L17: =IF(C17="","",IFERROR(INDEX('Kargo tarifem'!$B$6:$B$45,MATCH(H17,'Kargo tarifem'!$A$6:$A$45,0)),"")) | M17: =IF(C17="","",IF(OR(K17="",L17=""),"",MAX(0,K17-L17))) | N17: =IF(C17="","",IF(I17="","",IF(I17>H17,"Fazla desi","Tamam")))
G18: =IF(C18="","",ROUND(C18*D18*E18/$C$6,2)) | H18: =IF(C18="","",ROUNDUP(MAX(G18,F18),0)) | J18: =IF(C18="","",IF(I18="","",I18-H18)) | L18: =IF(C18="","",IFERROR(INDEX('Kargo tarifem'!$B$6:$B$45,MATCH(H18,'Kargo tarifem'!$A$6:$A$45,0)),"")) | M18: =IF(C18="","",IF(OR(K18="",L18=""),"",MAX(0,K18-L18))) | N18: =IF(C18="","",IF(I18="","",IF(I18>H18,"Fazla desi","Tamam")))
G19: =IF(C19="","",ROUND(C19*D19*E19/$C$6,2)) | H19: =IF(C19="","",ROUNDUP(MAX(G19,F19),0)) | J19: =IF(C19="","",IF(I19="","",I19-H19)) | L19: =IF(C19="","",IFERROR(INDEX('Kargo tarifem'!$B$6:$B$45,MATCH(H19,'Kargo tarifem'!$A$6:$A$45,0)),"")) | M19: =IF(C19="","",IF(OR(K19="",L19=""),"",MAX(0,K19-L19))) | N19: =IF(C19="","",IF(I19="","",IF(I19>H19,"Fazla desi","Tamam")))
G20: =IF(C20="","",ROUND(C20*D20*E20/$C$6,2)) | H20: =IF(C20="","",ROUNDUP(MAX(G20,F20),0)) | J20: =IF(C20="","",IF(I20="","",I20-H20)) | L20: =IF(C20="","",IFERROR(INDEX('Kargo tarifem'!$B$6:$B$45,MATCH(H20,'Kargo tarifem'!$A$6:$A$45,0)),"")) | M20: =IF(C20="","",IF(OR(K20="",L20=""),"",MAX(0,K20-L20))) | N20: =IF(C20="","",IF(I20="","",IF(I20>H20,"Fazla desi","Tamam")))
G21: =IF(C21="","",ROUND(C21*D21*E21/$C$6,2)) | H21: =IF(C21="","",ROUNDUP(MAX(G21,F21),0)) | J21: =IF(C21="","",IF(I21="","",I21-H21)) | L21: =IF(C21="","",IFERROR(INDEX('Kargo tarifem'!$B$6:$B$45,MATCH(H21,'Kargo tarifem'!$A$6:$A$45,0)),"")) | M21: =IF(C21="","",IF(OR(K21="",L21=""),"",MAX(0,K21-L21))) | N21: =IF(C21="","",IF(I21="","",IF(I21>H21,"Fazla desi","Tamam")))
G22: =IF(C22="","",ROUND(C22*D22*E22/$C$6,2)) | H22: =IF(C22="","",ROUNDUP(MAX(G22,F22),0)) | J22: =IF(C22="","",IF(I22="","",I22-H22)) | L22: =IF(C22="","",IFERROR(INDEX('Kargo tarifem'!$B$6:$B$45,MATCH(H22,'Kargo tarifem'!$A$6:$A$45,0)),"")) | M22: =IF(C22="","",IF(OR(K22="",L22=""),"",MAX(0,K22-L22))) | N22: =IF(C22="","",IF(I22="","",IF(I22>H22,"Fazla desi","Tamam")))
... G25: =IF(C25="","",ROUND(C25*D25*E25/$C$6,2)) | H25: =IF(C25="","",ROUNDUP(MAX(G25,F25),0)) | J25: =IF(C25="","",IF(I25="","",I25-H25)) | L25: =IF(C25="","",IFERROR(INDEX('Kargo tarifem'!$B$6:$B$45,MATCH(H25,'Kargo tarifem'!$A$6:$A$45,0)),"")) | M25: =IF(C25="","",IF(OR(K25="",L25=""),"",MAX(0,K25-L25))) | N25: =IF(C25="","",IF(I25="","",IF(I25>H25,"Fazla desi","Tamam")))
A27: Nasıl okunur
A28: • Örnek 1: 40 × 30 × 20 cm koli 8 desi eder; ürün 2 kg olsa da 8 desi faturalanmalı. Faturada 10 desi yazıyorsa 2 desi fazla kesilmiş.
A29: • Ağırlık ile desiden büyük olan faturalanır. Çoğu tarifede desi yukarı yuvarlanır; bölen, yuvarlama ve ağırlık kuralını kendi kargo anlaşmandan ve Trendyol anlaşmalı kargo tarifesinden teyit et.
A30: • Faturadaki desi ve tutar: satıcı panelindeki kargo faturası detayında sipariş numarasıyla görünür.
A31: • Fazla desi bulduğunda sipariş numarası, kolinin ölçüsü ve mümkünse fotoğrafıyla itirazı kendin ilet.
A33: Bunu otomatik yapmak için: netkadran.com — 14 gün ücretsiz, kart gerekmez

Sheet Kargo tarifem
A1: Kargo tarifem (KDV dahil)
A2: Aşağıdaki ücretler ÖRNEKTİR. Kendi kargo anlaşmandaki desi ücretlerini yaz; "Desi hesabı" sayfası doğru desinin tutarını buradan alır.
A5: Desi | B5: Ücret (₺, KDV dahil) | C5: Not
A6: 1 | B6: 100 | C6: örnek
A7: 2 | B7: 112 | C7: örnek
A8: 3 | B8: 124 | C8: örnek
A9: 4 | B9: 136 | C9: örnek
A10: 5 | B10: 148 | C10: örnek
A11: 6 | B11: 160 | C11: örnek
A12: 7 | B12: 172 | C12: örnek
A13: 8 | B13: 184 | C13: örnek
A14: 9 | B14: 196 | C14: örnek
A15: 10 | B15: 208 | C15: örnek
A16: 11 | B16: 220 | C16: örnek
A17: 12 | B17: 232 | C17: örnek
... A45: 40 | B45: 568 | C45: örnek
